BEGIN:VCALENDAR
VERSION:2.0
PRODID:-//Wakefield Township - Gogebic County, MI - ECPv6.15.20//NONSGML v1.0//EN
CALSCALE:GREGORIAN
METHOD:PUBLISH
X-WR-CALNAME:Wakefield Township - Gogebic County, MI
X-ORIGINAL-URL:https://wakefieldtownship.com
X-WR-CALDESC:Events for Wakefield Township - Gogebic County, MI
REFRESH-INTERVAL;VALUE=DURATION:PT1H
X-Robots-Tag:noindex
X-PUBLISHED-TTL:PT1H
BEGIN:VTIMEZONE
TZID:America/Chicago
BEGIN:DAYLIGHT
TZOFFSETFROM:-0600
TZOFFSETTO:-0500
TZNAME:CDT
DTSTART:20150308T080000
END:DAYLIGHT
BEGIN:STANDARD
TZOFFSETFROM:-0500
TZOFFSETTO:-0600
TZNAME:CST
DTSTART:20151101T070000
END:STANDARD
BEGIN:DAYLIGHT
TZOFFSETFROM:-0600
TZOFFSETTO:-0500
TZNAME:CDT
DTSTART:20160313T080000
END:DAYLIGHT
BEGIN:STANDARD
TZOFFSETFROM:-0500
TZOFFSETTO:-0600
TZNAME:CST
DTSTART:20161106T070000
END:STANDARD
BEGIN:DAYLIGHT
TZOFFSETFROM:-0600
TZOFFSETTO:-0500
TZNAME:CDT
DTSTART:20170312T080000
END:DAYLIGHT
BEGIN:STANDARD
TZOFFSETFROM:-0500
TZOFFSETTO:-0600
TZNAME:CST
DTSTART:20171105T070000
END:STANDARD
BEGIN:DAYLIGHT
TZOFFSETFROM:-0600
TZOFFSETTO:-0500
TZNAME:CDT
DTSTART:20180311T080000
END:DAYLIGHT
BEGIN:STANDARD
TZOFFSETFROM:-0500
TZOFFSETTO:-0600
TZNAME:CST
DTSTART:20181104T070000
END:STANDARD
END:VTIMEZONE
BEGIN:VEVENT
DTSTART;TZID=America/Chicago:20170214T090000
DTEND;TZID=America/Chicago:20170214T120000
DTSTAMP:20260421T150942
CREATED:20170204T183453Z
LAST-MODIFIED:20170204T184632Z
UID:591-1487062800-1487073600@wakefieldtownship.com
SUMMARY:Tax Collection 9:00
DESCRIPTION:
URL:https://wakefieldtownship.com/event/tax-collection-2/
LOCATION:Wakefield Township Building\, 414 N Co Rd 519\, Wakefield\, MI\, 49968\, United States
END:VEVENT
BEGIN:VEVENT
DTSTART;TZID=America/Chicago:20170207T173000
DTEND;TZID=America/Chicago:20170207T183000
DTSTAMP:20260421T150942
CREATED:20160922T015613Z
LAST-MODIFIED:20160922T015613Z
UID:372-1486488600-1486492200@wakefieldtownship.com
SUMMARY:Township Board Meeting
DESCRIPTION:
URL:https://wakefieldtownship.com/event/township-board-meeting-5/
LOCATION:Wakefield Township Building\, 414 N Co Rd 519\, Wakefield\, MI\, 49968\, United States
END:VEVENT
BEGIN:VEVENT
DTSTART;TZID=America/Chicago:20170103T053000
DTEND;TZID=America/Chicago:20170103T183000
DTSTAMP:20260421T150942
CREATED:20160922T025319Z
LAST-MODIFIED:20160922T025319Z
UID:370-1483421400-1483468200@wakefieldtownship.com
SUMMARY:Township Board Meeting
DESCRIPTION:
URL:https://wakefieldtownship.com/event/township-board-meeting-4/
LOCATION:Wakefield Township Building\, 414 N Co Rd 519\, Wakefield\, MI\, 49968\, United States
END:VEVENT
BEGIN:VEVENT
DTSTART;TZID=America/Chicago:20161230T090000
DTEND;TZID=America/Chicago:20161230T170000
DTSTAMP:20260421T150942
CREATED:20161027T215653Z
LAST-MODIFIED:20161027T215820Z
UID:516-1483088400-1483117200@wakefieldtownship.com
SUMMARY:Tax Collection
DESCRIPTION:Taxes Collected at the Township Hall between 9:00 AM and 12:00 \n1:00 PM – 5:00 PM at Treasurer’s Home Office \n 
URL:https://wakefieldtownship.com/event/tax-collection/
LOCATION:Wakefield Township Building\, 414 N Co Rd 519\, Wakefield\, MI\, 49968\, United States
END:VEVENT
BEGIN:VEVENT
DTSTART;TZID=America/Chicago:20161206T053000
DTEND;TZID=America/Chicago:20161206T183000
DTSTAMP:20260421T150942
CREATED:20160922T025140Z
LAST-MODIFIED:20160922T025140Z
UID:368-1481002200-1481049000@wakefieldtownship.com
SUMMARY:Township Board Meeting
DESCRIPTION:
URL:https://wakefieldtownship.com/event/township-board-meeting-3/
LOCATION:Wakefield Township Building\, 414 N Co Rd 519\, Wakefield\, MI\, 49968\, United States
END:VEVENT
BEGIN:VEVENT
DTSTART;VALUE=DATE:20161108
DTEND;VALUE=DATE:20161109
DTSTAMP:20260421T150942
CREATED:20160922T020206Z
LAST-MODIFIED:20160922T020206Z
UID:378-1478563200-1478649599@wakefieldtownship.com
SUMMARY:General Election
DESCRIPTION:
URL:https://wakefieldtownship.com/event/general-election/
LOCATION:Wakefield Township Building\, 414 N Co Rd 519\, Wakefield\, MI\, 49968\, United States
END:VEVENT
BEGIN:VEVENT
DTSTART;TZID=America/Chicago:20161104T090000
DTEND;TZID=America/Chicago:20161104T120000
DTSTAMP:20260421T150942
CREATED:20161011T161706Z
LAST-MODIFIED:20161011T161706Z
UID:502-1478250000-1478260800@wakefieldtownship.com
SUMMARY:Wakefield Fire Department – Battery give-away
DESCRIPTION:The Wakefield Fire Department will be giving away smoke alarm batteries on Thursday and Friday\, November 3rd and 4th from 9:00 AM to 12 PM at the Fire Hall. If you can’t make it at that time\, call (906)364-5964 to make an appointment. This is for the city of Wakefield and Wakefield Township residents.
URL:https://wakefieldtownship.com/event/wakefield-fire-department-battery-give-away-2/
LOCATION:MI
END:VEVENT
BEGIN:VEVENT
DTSTART;TZID=America/Chicago:20161103T090000
DTEND;TZID=America/Chicago:20161103T120000
DTSTAMP:20260421T150942
CREATED:20161011T161244Z
LAST-MODIFIED:20161011T161244Z
UID:500-1478163600-1478174400@wakefieldtownship.com
SUMMARY:Wakefield Fire Department - Battery give-away
DESCRIPTION:The Wakefield Fire Department will be giving away smoke alarm batteries on Thursday and Friday\, November 3rd and 4th from 9:00 AM to 12 PM at the Fire Hall. If you can’t make it at that time\, call (906)364-5964 to make an appointment. This is for the city of Wakefield and Wakefield Township residents.
URL:https://wakefieldtownship.com/event/wakefield-fire-department-battery-give-away/
LOCATION:MI
END:VEVENT
BEGIN:VEVENT
DTSTART;TZID=America/Chicago:20161101T173000
DTEND;TZID=America/Chicago:20161101T183000
DTSTAMP:20260421T150942
CREATED:20160922T024955Z
LAST-MODIFIED:20160928T012157Z
UID:366-1478021400-1478025000@wakefieldtownship.com
SUMMARY:Township Board Meeting
DESCRIPTION:
URL:https://wakefieldtownship.com/event/township-board-meeting-2/
LOCATION:Wakefield Township Building\, 414 N Co Rd 519\, Wakefield\, MI\, 49968\, United States
END:VEVENT
BEGIN:VEVENT
DTSTART;TZID=America/Chicago:20161101T170000
DTEND;TZID=America/Chicago:20161101T170000
DTSTAMP:20260421T150942
CREATED:20160928T011813Z
LAST-MODIFIED:20160928T011813Z
UID:493-1478019600-1478019600@wakefieldtownship.com
SUMMARY:Wakefield Township Residential Trash Pick-up bid Deadline
DESCRIPTION:
URL:https://wakefieldtownship.com/event/wakefield-township-residential-trash-pick-up-bid-deadline/
LOCATION:Wakefield Township Building\, 414 N Co Rd 519\, Wakefield\, MI\, 49968\, United States
END:VEVENT
BEGIN:VEVENT
DTSTART;VALUE=DATE:20161011
DTEND;VALUE=DATE:20161012
DTSTAMP:20260421T150942
CREATED:20160922T020032Z
LAST-MODIFIED:20160922T020032Z
UID:376-1476144000-1476230399@wakefieldtownship.com
SUMMARY:Voter Registration
DESCRIPTION:October 11\, 2016 is last day to register to vote in this election.
URL:https://wakefieldtownship.com/event/voter-registration/
LOCATION:MI
END:VEVENT
BEGIN:VEVENT
DTSTART;TZID=America/Chicago:20161004T173000
DTEND;TZID=America/Chicago:20161004T183000
DTSTAMP:20260421T150942
CREATED:20160915T184950Z
LAST-MODIFIED:20160922T024847Z
UID:328-1475602200-1475605800@wakefieldtownship.com
SUMMARY:Township Board Meeting
DESCRIPTION:
URL:https://wakefieldtownship.com/event/township-board-meeting/
LOCATION:Wakefield Township Building\, 414 N Co Rd 519\, Wakefield\, MI\, 49968\, United States
END:VEVENT
BEGIN:VEVENT
DTSTART;TZID=America/Chicago:20161004T170000
DTEND;TZID=America/Chicago:20161004T170000
DTSTAMP:20260421T150942
CREATED:20160928T011940Z
LAST-MODIFIED:20160928T142744Z
UID:495-1475600400-1475600400@wakefieldtownship.com
SUMMARY:Snow Removal Bid Deadline
DESCRIPTION:
URL:https://wakefieldtownship.com/event/snow-removal-bid-deadline/
LOCATION:Wakefield Township Building\, 414 N Co Rd 519\, Wakefield\, MI\, 49968\, United States
END:VEVENT
END:VCALENDAR